BEGIN:VCALENDAR
VERSION:2.0
PRODID:-//umatillapubliclibrary.org//NONSGML kigkonsult.se iCalcreator 2.30
 .10//
CALSCALE:GREGORIAN
METHOD:PUBLISH
UID:e2398dd2-c86c-4887-a527-673633db8969
X-WR-CALDESC:This event has been canceled
X-WR-RELCALID:9682068eefae710d757e16824ca75324
X-WR-TIMEZONE:America/Los_Angeles
BEGIN:VTIMEZONE
TZID:America/Los_Angeles
BEGIN:STANDARD
TZNAME:PST
DTSTART:20251102T020000
TZOFFSETFROM:-0700
TZOFFSETTO:-0800
RDATE:20261101T020000
END:STANDARD
BEGIN:DAYLIGHT
TZNAME:PDT
DTSTART:20260308T020000
TZOFFSETFROM:-0800
TZOFFSETTO:-0700
RDATE:20270314T020000
END:DAYLIGHT
END:VTIMEZONE
BEGIN:VEVENT
UID:b3a43f6c-38a1-4477-8b73-4ee61be19b4a
DTSTAMP:20260421T013924Z
DESCRIPTION:This event has been canceled
DTSTART;TZID=America/Los_Angeles:20260430T180000
DTEND;TZID=America/Los_Angeles:20260430T190000
LOCATION:
SUMMARY:Mothers' Support Group - April (Canceled)
END:VEVENT
END:VCALENDAR
