BEGIN:VCALENDAR
VERSION:2.0
PRODID:-//umatillapubliclibrary.org//NONSGML kigkonsult.se iCalcreator 2.30
 .10//
CALSCALE:GREGORIAN
METHOD:PUBLISH
UID:3fdbd302-50bf-4f52-b1dd-f8080aeb5054
X-WR-CALDESC:Stop by the library each month to grab a fun Take & Make kit j
 ust for teens! We’ll be offering creative projects including Beaded Bookma
 rks and Mug Rugs. Kits are available all week. Perfect to take home and cr
 eate on your own time.\nWhile supplies last!
X-WR-RELCALID:6ee97ee3e3ae738e18a3ef48c365214d
X-WR-TIMEZONE:America/Los_Angeles
BEGIN:VTIMEZONE
TZID:America/Los_Angeles
BEGIN:STANDARD
TZNAME:PST
DTSTART:20251102T020000
TZOFFSETFROM:-0700
TZOFFSETTO:-0800
RDATE:20261101T020000
END:STANDARD
BEGIN:DAYLIGHT
TZNAME:PDT
DTSTART:20260308T020000
TZOFFSETFROM:-0800
TZOFFSETTO:-0700
RDATE:20270314T020000
END:DAYLIGHT
END:VTIMEZONE
BEGIN:VEVENT
UID:e69c5fee-4641-4720-89e1-0c95b2df097b
DTSTAMP:20260421T143254Z
DESCRIPTION:Stop by the library each month to grab a fun Take & Make kit ju
 st for teens! We’ll be offering creative projects including Beaded Bookmar
 ks and Mug Rugs. Kits are available all week. Perfect to take home and cre
 ate on your own time.\nWhile supplies last!
DTSTART;TZID=America/Los_Angeles:20260420T090000
DTEND;TZID=America/Los_Angeles:20260424T170000
LOCATION:
SUMMARY:Teen Take & Make: Beaded Bookmarks
END:VEVENT
END:VCALENDAR
